BEGIN:VCALENDAR
VERSION:2.0
PRODID:-//https://awgl.nl///NONSGML kigkonsult.se iCalcreator 2.10.15//
METHOD:PUBLISH
BEGIN:VEVENT
UID:20260422T032828CEST-7776AaKRVu@https://awgl.nl/
DTSTAMP:20260422T012828Z
DESCRIPTION:Op 19 juni komt het Bestuur bijeen. Belangrijk punt op de agend
 a zijn onderzoeksvoorstellen die binnenkomen voor de deadline\, die afloop
 t op 10 mei. https://awgl.nl/activiteiten/evenement/33-vergadering-awgl-be
 stuur
DTSTART:20230619T140000Z
DTEND:20230619T153000Z
LOCATION:Online bijeenkomst ()
SUMMARY:Vergadering AWGL Bestuur
URL:https://awgl.nl/activiteiten/evenement/33-vergadering-awgl-bestuur
END:VEVENT
END:VCALENDAR
