BEGIN:VCALENDAR
VERSION:2.0
PRODID:-//https://awgl.nl///NONSGML kigkonsult.se iCalcreator 2.10.15//
METHOD:PUBLISH
BEGIN:VEVENT
UID:20260423T145418CEST-3751tOGkUV@https://awgl.nl/
DTSTAMP:20260423T125418Z
DESCRIPTION:Welke invloed hebben de milieufactoren geluid\, luchtverontrein
 iging en hitte bij het wonen op hoogte? En wat betekent het wonen in een h
 oogbouwcomplex voor de sociale cohesie\, algehele en mentale gezondheid? O
 p deze vragen hebben onderzoekers van GGD Rotterdam-Rijnmond antwoord gezo
 cht in de beschikbare wetenschappelijke en grijze literatuur.\nTijdens dit
  lunchwebinar deelt Amy Kragt (GGD Rotterdam-Rijnmond) de resultaten van h
 un desktopstudie Gezondheidseffecten van wonen in hoogbouw. Ook licht ze d
 e beperkingen van deze dekstopstudie toe. En gaat zij dieper in op hoe we 
 met elkaar het onderwerp hoogbouw en gezondheid een vervolg kunnen geven. 
 Daarvoor doet zij een aantal voorzetten waarover we met elkaar in discussi
 e kunnen gaan.\nMeer lezen over deze desktopstudie? Bekijk de projectpagin
 a hier.\nVoor wie?\nDit webinar is voor onderzoekers en deelnemers van de 
 AWGL (waaronder medewerkers van GGD’en).\nDit webinar zal niet worden opge
 nomen en is daarom niet achteraf terug te kijken op onze website.\nInschri
 jven\nWil je erbij zijn? Schrijf je nu in via onderstaande knop. Na aanmel
 ding ontvang je voor de bijeenkomst de Teams-link.\nVragen?\nNeem contact 
 met ons op via het contactformulier. https://awgl.nl/activiteiten/evenemen
 t/77-literatuurbevindingen-over-het-wonen-op-hoogte-en-gezondheid
DTSTART:20250527T100000Z
DTEND:20250527T104500Z
LOCATION:Online AWGL ()
SUMMARY:Literatuurbevindingen over het wonen op hoogte en gezondheid
URL:https://awgl.nl/activiteiten/evenement/77-literatuurbevindingen-over-he
 t-wonen-op-hoogte-en-gezondheid
END:VEVENT
END:VCALENDAR
