BEGIN:VCALENDAR
VERSION:2.0
PRODID:-//https://awgl.nl///NONSGML kigkonsult.se iCalcreator 2.10.15//
METHOD:PUBLISH
BEGIN:VEVENT
UID:20260425T141418CEST-9373eBmJKG@https://awgl.nl/
DTSTAMP:20260425T121418Z
DESCRIPTION:Voor medewerkers van GGD'en die overwegen een voorstel in te di
 enen organiseren we een vragenuurtje om concrete vragen te bespreken over 
 het uitdenken en opschrijven van je voorstel. Op 3 november 2025 om 12:00 
 u. is de deadline voor het indienen van onderzoeksvoorstellen. \nHet vrage
 nuurtje vindt plaats op donderdag 16 oktober 14:30 - 15:30 u. Meld je aan\
 , dan ontvang je van ons een Teams link.Dit vragenuurtje is exclusief voor
  medewerkers van GGD'en en onderzoeksinstellingen.\nHeb je vragen over het
  proces van de aanvraag bij AWGL? Kijk ook eens op onze website voor infor
 matie over het indienen van een projectvoorstel. https://awgl.nl/activitei
 ten/evenement/86-awgl-vragenuurtje-projectideeen
DTSTART:20251016T123000Z
DTEND:20251016T133000Z
LOCATION:Online bijeenkomst ()
SUMMARY:AWGL Vragenuurtje: Projectideeën 
URL:https://awgl.nl/activiteiten/evenement/86-awgl-vragenuurtje-projectidee
 en
END:VEVENT
END:VCALENDAR
