{"text_format":"1","workbook":"xlsx","n_sheets":6,"sheets":["Uitleg","Invulblad en resultaten","Rekenblad","Rekenmodel","Leeftijdsopbouw NL 2019","Meerookmethode"],"not_rendered":{"charts":1,"images":19,"macros":1,"external_links":0,"defined_names":0,"comments":0,"pivot_tables":0},"unopened":[],"bounds":{"document_bytes":16777216,"sheet_cells":100000,"rows_first":2000,"rows_last":500,"rows_between":2000,"halvings":0,"cell_chars":16384,"cell_head_chars":4096},"cells_cut":0,"cells_raw":0,"read":"whole","date_system":"1900"}

{"sheet":"Uitleg","index":0,"n_rows":0,"n_cols":0,"rows_kept":0,"cut":false,"hidden":false,"merged":[]}

{"sheet":"Invulblad en resultaten","index":1,"n_rows":34,"n_cols":23,"rows_kept":34,"cut":false,"hidden":false,"merged":[[0,22,0,23],[6,8,6,12],[6,13,6,14],[7,13,7,14],[7,8,7,12],[0,20,0,21]]}
[null,"GGD Rekentool Luchtkwaliteit & Gezondheid - Invulblad en resultaten"]
[]
[null,"Vul in het aantal bewoners :",null,null,"17407585","Check op representativiteit!"]
[]
[null,"Vink de stoffen aan waarmee je wilt rekenen en vul vervolgens"]
[null,"de blootstelling in (gebruik de schuifbalk of pijltjes)",null,null,null,null,null,null,"Vroegtijdige sterfte in dagen ",null,null,null,null,null,null,null,"Daling longcapaciteit kinderen 0-18 jaar (FEV1) in % (PM2,5 en NO2)"]
[null,null,null,null,{"$f":"IF(AND(B8=FALSE,B11=FALSE),\"onjuiste invoer, of PM10 of PM2,5 of beide aanvinken\",IF(B8=TRUE,$E$8*0.1,E11/0.59))","v":15},null,null,null,"One-pollutant model ",null,null,null,null,"Two-pollutant model"]
[null,true,"PM10",null,150,null,null,null,"(WHO Air Quality Guidelines, 2021)",null,null,null,null,"(DUELS, 2015)"]
[null,null,null,null,null,null,null,null,null,null,null,null,null,null,null,null,null,{"$f":"ROUND(Rekenblad!B26*100,1)","v":0.8}]
[null,null,null,null,null,null,null,null,{"$f":"Rekenblad!B36","v":125},null,{"$f":"Rekenblad!B35","v":189},null,{"$f":"Rekenblad!B37","v":63},null,{"$f":"Rekenblad!B31","v":261},null,null,{"$f":"ROUND(Rekenblad!B27*100,1)","v":0.7}]
[null,true,null,null,{"$f":"IF(AND(B8=FALSE,B11=FALSE),\"onjuiste invoer, of PM10 of PM2,5 of beide aanvinken\",IF(B11=TRUE,$E$12*0.1,E7*0.59))","v":5}]
[null,null,"PM2,5",null,50]
[]
[null,true]
[null,null,null,null,{"$f":"IF(B14=TRUE,$E$16*0.1,0)","v":10}]
[null,null,"NO2",null,100]
[null,true]
[]
[]
[null,"Aandeel ziektelast als % van het totaal aantal gevallen (b.v. van alle gevallen van longkanker per jaar wordt x% veroorzaakt door luchtverontreiniging)",null,null,null,null,null,null,null,null,null,null,null,null,null,null,"Indicator","Ziektelast",null,null,null,null,"Cases per jaar"]
[null,null,null,null,null,null,null,null,null,null,null,null,null,null,null,null,"PM2,5","Laag geboortegewicht (0-1)",null,null,null,null,{"$f":"Rekenmodel!E8","v":371.21456670415279}]
[null,null,null,null,null,null,null,null,null,null,null,null,null,null,null,null,"NO2","Incidentie astma kinderen (0-18)",null,null,null,null,{"$f":"Rekenmodel!E9","v":3450.4357838795395}]
[null,null,null,null,null,null,null,null,null,null,null,null,null,null,null,null,"PM2,5","Incidentie hartvaatziekten (totaal) (40+)",null,null,null,null,{"$f":"Rekenmodel!E10","v":20517.512239909869}]
[null,null,null,null,null,null,null,null,null,null,null,null,null,null,null,null,"NO2","Incidentie hartvaatziekten (totaal) (40+)",null,null,null,null,{"$f":"Rekenmodel!E11","v":63456.521739130403}]
[null,null,null,null,null,null,null,null,null,null,null,null,null,null,null,null,"PM2,5","Longkanker (50+)",null,null,null,null,{"$f":"Rekenmodel!E12","v":850.98433184718419}]
[null,null,null,null,null,null,null,null,null,null,null,null,null,null,null,null,"PM2,5","Ziekenhuisopnames astma (alle leeftijden)",null,null,null,null,{"$f":"Rekenmodel!E13","v":83.546552903757117}]
[null,null,null,null,null,null,null,null,null,null,null,null,null,null,null,null,"PM2,5","Ziekenhuisopnames COPD (alle leeftijden)",null,null,null,null,{"$f":"Rekenmodel!E14","v":409.34065576968624}]
[null,null,null,null,null,null,null,null,null,null,null,null,null,null,null,null,"NO2","Ziekenhuisopnames astma (alle leeftijden)",null,null,null,null,{"$f":"Rekenmodel!E15","v":102.03155818540442}]
[null,null,null,null,null,null,null,null,null,null,null,null,null,null,null,null,"NO2","Ziekenhuisopnames ischemische hartziekten (40+)",null,null,null,null,{"$f":"Rekenmodel!E16","v":769.66007905138406}]
[]
[]
[null,null,null,null,null,null,null,null,null,null,null,null,null,null,null,null,"Aantal meegerookte sigaretten per dag (op basis van PM2,5 en NO2)"]
[]
[null,null,null,null,null,null,null,null,null,null,null,null,null,null,null,null,{"$f":"ROUND(Meerookmethode!G9,1)","v":2.4}]

{"sheet":"Rekenblad","index":2,"n_rows":40,"n_cols":3,"rows_kept":40,"cut":false,"hidden":true,"merged":[]}
["GEEL=VERWIJZING INVULBLAD EN RESULTATEN",2019]
["GROEN=RESULTATEN ZIEKTELAST"]
["ORANJE=RESULTATEN VROEGTIJDIG OVERLIJDEN"]
[]
["Totaal aantal inwoners waarop de berekening betrekking heeft",{"$f":"'Invulblad en resultaten'!E3","v":"17407585"},"Bevolking 1-1-2020"]
["Welk verschil in PM10 concentratie wil je doorrekenen?",{"$f":"'Invulblad en resultaten'!E7","v":15},"Bevolkingsgewogen gemiddelde "]
["Welk verschil in PM2,5 concentratie wil je doorrekenen? ",{"$f":"'Invulblad en resultaten'!E11","v":5},"Bevolkingsgewogen gemiddelde "]
["Op welk verschil in NO2 concentratie heeft de berekening van levensduur betrekking? ",{"$f":"'Invulblad en resultaten'!E15","v":10},"Bevolkingsgewogen gemiddelde "]
[]
[]
["Ziektelast","Attributieve cases / ziektelast *","Aandeel ziektelast door PM2,5 **"]
["Laag geboortegewicht (0-1) - PM2,5",{"$f":"Rekenmodel!E8","v":371.21456670415279},{"$f":"Rekenmodel!F8","v":3.819472854245836E-2}]
["Incidentie astma kinderen (0-18) - NO2",{"$f":"Rekenmodel!E9","v":3450.4357838795395},{"$f":"Rekenmodel!F9","v":0.11426040744021258}]
["Incidentie hartvaatziekten (totaal) (40+) - PM2,5",{"$f":"Rekenmodel!E10","v":20517.512239909869},{"$f":"Rekenmodel!F10","v":4.2173714778848653E-2}]
["Incidentie hartvaatziekten (totaal) (40+) - NO2",{"$f":"Rekenmodel!E11","v":63456.521739130403},{"$f":"Rekenmodel!F11","v":0.13043478260869559}]
["Longkanker (50+) - PM2,5",{"$f":"Rekenmodel!E12","v":850.98433184718419},{"$f":"Rekenmodel!F12","v":7.1523309114740641E-2}]
["Ziekenhuisopnames astma (alle leeftijden) - PM2,5",{"$f":"Rekenmodel!E13","v":83.546552903757117},{"$f":"Rekenmodel!F13","v":1.1305352219723562E-2}]
["Ziekenhuisopnames COPD (alle leeftijden) - PM2,5",{"$f":"Rekenmodel!E14","v":409.34065576968624},{"$f":"Rekenmodel!F14","v":1.2270403350410259E-2}]
["Ziekenhuisopnames astma (alle leeftijden) - NO2",{"$f":"Rekenmodel!E15","v":102.03155818540442},{"$f":"Rekenmodel!F15","v":1.3806706114398434E-2}]
["Ziekenhuisopnames ischemische hartziekten (40+) - NO2",{"$f":"Rekenmodel!E16","v":769.66007905138406},{"$f":"Rekenmodel!F16","v":1.1857707509881433E-2}]
[]
["*) Absoluut aantal gevallen door luchtverontreiniging, bijvoorbeeld een x aantal mensen per jaar met longkanker door luchtverontreiniging"]
["**) Percentage van het totaal aantal gevallen, bijvoorbeeld van alle gevallen longkanker per jaar wordt x procent veroorzaakt door luchtverontreiniging"]
[]
[null,"Percentage afname FEV1"]
["FEV1 daling kinderen (0-18 jaar) in procenten - PM2,5",{"$f":"Rekenmodel!E19","v":8.0000000000000002E-3}]
["FEV1 daling kinderen (0-18 jaar) in procenten - NO2",{"$f":"Rekenmodel!E20","v":7.0000000000000001E-3}]
[]
["Vroegtijdig overlijden","Vroegtijdig overlijden"]
["Vroegtijdig overlijden two pollutant model:"]
["Vroegtijdig overlijden (totale sterfte) >30 jaar in dagen door PM10 en NO2",{"$f":"ROUND(Rekenmodel!E25,0)","v":261}]
[]
["Vroegtijdig overlijden one pollutant model (als je geen PM10/2,5 én NO2 concentraties hebt):"]
[" Zie voor toelichting in begeleidende rapportage welke component je in jouw geval kunt gebruiken"]
["Vroegtijdig overlijden (totale sterfte) >30 jaar in dagen door PM10",{"$f":"ROUND(Rekenmodel!E28,0)","v":189}]
["Vroegtijdig overlijden (totale sterfte) >30 jaar in dagen door PM2,5",{"$f":"ROUND(Rekenmodel!E29,0)","v":125}]
["Vroegtijdig overlijden (totale sterfte) >30 jaar in dagen door NO2",{"$f":"ROUND(Rekenmodel!E30,0)","v":63}]
[]
[]
["Let op: Je mag in geen geval het vroegtijdig overlijden (in dagen) van bovenstaande berekeningen bij elkaar optellen. Je moet kiezen uit één van de getallen in de oranje vakjes"]

{"sheet":"Rekenmodel","index":3,"n_rows":30,"n_cols":23,"rows_kept":30,"cut":false,"hidden":true,"merged":[]}
[]
["Totaal aantal inwoners waarop de berekening betrekking heeft",{"$f":"'Invulblad en resultaten'!E3","v":"17407585"}]
["Welk verschil in PM10 concentratie wil je doorrekenen?",{"$f":"IF(Rekenblad!B6=\"\",\"\",Rekenblad!B6)","v":15}]
["Welk verschil in PM2.5 concentratie wil je doorrekenen? ",{"$f":"IF(Rekenblad!B7=\"\",\"\",Rekenblad!B7)","v":5}]
[{"$f":"IF(Rekenblad!A8=\"\",\"\",Rekenblad!A8)","v":"Op welk verschil in NO2 concentratie heeft de berekening van levensduur betrekking? "},{"$f":"IF(Rekenblad!B8=\"\",\"\",Rekenblad!B8)","v":10}]
[]
["Ziektelast",null,"Populatie at risk","Incidentie","Attributieve cases / ziektelast ","Aandeel ziektelast door PM10/PM2.5/NO2",null,"RR voor PM10 (per 10 ug/m3)","RR voor PM2.5 (per 10 ug/m3)","RR voor NO2 (per 10 ug/m3)","beta per 1 ug/m3 PM2.5","beta voor 1 ug/m3 PM10","beta voor 1 ug/m3 NO2","RR behorend bij delta PM2.5 ","RR behorend bij delta NO2","RR behorend bij delta PM10","Attributieve cases door PM2.5","Attributieve cases door NO2",null,"Attributieve cases door PM10","Bron effectschatting","Incidentie/prevalentie 2019","Bron incidentie/prevalentie"]
["Laag geboortegewicht (0-1)","PM2.5",{"$f":"($B$2/'Leeftijdsopbouw NL 2019'!I4)*'Leeftijdsopbouw NL 2019'!I5","v":169497},{"$f":"($B$2/17407585)*9719","v":9719},{"$f":"Q8","v":371.21456670415279},{"$f":"E8/D8","v":3.819472854245836E-2},null,null,1.081,null,{"$f":"LN(I8)/10","v":7.7886538657071193E-3},null,null,{"$f":"IF($B$4=\"\",\"\",EXP($B$4*$K8))","v":1.0397114984456024},null,null,{"$f":"((N8-1)/N8)*$D8","v":371.21456670415279},null,null,null,"Li et al., 2020","Incidentie (0-1 jarigen): 9719","RIVM-VTV, data 2019"]
["Incidentie astma kinderen (0-18)","NO2",{"$f":"($B$2/'Leeftijdsopbouw NL 2019'!I4)*SUM('Leeftijdsopbouw NL 2019'!$I$5:$I$25)","v":3997789},{"$f":"($B$2/17407585)*30198","v":30198},{"$f":"R9","v":3450.4357838795395},0.11426040744021258,null,null,null,1.129,null,null,{"$f":"LN(J9)/10","v":1.2133228516752496E-2},null,{"$f":"IF($B$5=\"\",\"\",EXP($B$5*M9))","v":1.129},null,null,{"$f":"((O9-1)/O9)*D9","v":3450.4357838795395},null,null,"Khreis, H. et al, 2017","Incidentie  (0-20 jarigen): 30198","RIVM-VTV, data 2019"]
["Incidentie hartvaatziekten (totaal) volwassenen (40+)","PM2.5",{"$f":"($B$2/'Leeftijdsopbouw NL 2019'!I4)*SUM('Leeftijdsopbouw NL 2019'!I45:I104)","v":9250847},{"$f":"($B$2/17407585)*486500","v":486500},{"$f":"Q10","v":20517.512239909869},4.2173714778848653E-2,null,null,1.0900000000000001,null,{"$f":"LN(I10)/10","v":8.6177696241052405E-3},null,null,{"$f":"IF($B$4=\"\",\"\",EXP($B$4*$K10))","v":1.0440306508910551},null,null,{"$f":"((N10-1)/N10)*$D10","v":20517.512239909869},null,null,null,"Pranata et al., 2020","Incidentie (40+): 486.500","Data NIVEL 2019 via Volksgezondheidenzorg.info"]
["Incidentie hartvaatziekten (totaal) volwassenen (40+)","NO2",{"$f":"($B$2/'Leeftijdsopbouw NL 2019'!I4)*SUM('Leeftijdsopbouw NL 2019'!I45:I104)","v":9250847},{"$f":"($B$2/17407585)*486500","v":486500},{"$f":"R11","v":63456.521739130403},{"$f":"E11/D11","v":0.13043478260869559},null,null,null,1.1499999999999999,null,null,{"$f":"LN(J11)/10","v":1.3976194237515862E-2},null,{"$f":"IF($B$5=\"\",\"\",EXP($B$5*$M11))","v":1.1499999999999999},null,null,{"$f":"((O11-1)/O11)*$D11","v":63456.521739130403},null,null,"Pranata et al., 2020","Incidentie (40+): 486.500","Data NIVEL 2019 via Volksgezondheidenzorg.info"]
["Longkanker (50+)","PM2.5",{"$f":"($B$2/'Leeftijdsopbouw NL 2019'!I4)*SUM('Leeftijdsopbouw NL 2019'!I55:I104)","v":7042771},{"$f":"($B$2/17407585)*11898","v":11898},{"$f":"Q12","v":850.98433184718419},{"$f":"E12/D12","v":7.1523309114740641E-2},null,null,1.1599999999999999,null,{"$f":"LN(I12)/10","v":1.4842000511827321E-2},null,null,{"$f":"IF($B$4=\"\",\"\",EXP($B$4*$K12))","v":1.0770329614269007},null,null,{"$f":"((N12-1)/N12)*$D12","v":850.98433184718419},null,null,null,"Cibattini et al., 2020","Incidentie (50+): 11.898","RIVM-VTV, data 2019"]
["Ziekenhuisopnames astma (alle leeftijden) ","PM2.5",{"$f":"$B$2","v":"17407585"},{"$f":"($B$2/17407585)*7390","v":7390},{"$f":"Q13","v":83.546552903757117},1.1305352219723562E-2,null,null,1.0229999999999999,null,{"$f":"LN(I13)/10","v":2.2739486969489339E-3},null,null,{"$f":"IF($B$4=\"\",\"\",EXP($B$4*$K13))","v":1.0114346246792225},null,null,{"$f":"(N13-1)/N13*$D13","v":83.546552903757117},null,null,null,"Zheng et al., 2015","Incidentie (alle leeftijden): 7390","CBS Staline, VTV indeling, astma, data 2019"]
["Ziekenhuisopnames COPD (alle leeftijden)","PM2.5",{"$f":"$B$2","v":"17407585"},{"$f":"($B$2/17407585)*33360","v":33360},{"$f":"Q14","v":409.34065576968624},1.2270403350410259E-2,null,null,1.0249999999999999,null,{"$f":"LN(I14)/10","v":2.4692612590371415E-3},null,null,{"$f":"IF($B$4=\"\",\"\",EXP($B$4*$K14))","v":1.0124228365658292},null,null,{"$f":"((N14-1)/N14)*$D14","v":409.34065576968624},null,null,null,"Zhu et al., 2020","Incidentie (alle leeftijden): 33.360 ","CBS Staline, VTV indeling, COPD, data 2019"]
["Ziekenhuisopnames astma (alle leeftijden) ","NO2",{"$f":"$B$2","v":"17407585"},{"$f":"($B$2/17407585)*7390","v":7390},{"$f":"R15","v":102.03155818540442},1.3806706114398434E-2,null,null,null,1.014,null,null,{"$f":"LN(J15)/10","v":1.3902905168991435E-3},null,{"$f":"IF($B$5=\"\",\"\",EXP($B$5*M15))","v":1.014},null,null,{"$f":"((O15-1)/O15)*D15","v":102.03155818540442},null,null,"Zheng et al., 2021","Incidentie (alle leeftijden): 7390","CBS Staline, VTV indeling, astma, data 2019"]
["Ziekenhuisopnames ischemische hartziekten (40+)","NO2",{"$f":"($B$2/'Leeftijdsopbouw NL 2019'!I4)*SUM('Leeftijdsopbouw NL 2019'!I45:I104)","v":9250847},{"$f":"($B$2/17407585)*64908","v":64908},{"$f":"R16","v":769.66007905138406},1.1857707509881433E-2,null,null,null,1.012,null,null,{"$f":"LN(J16)/10","v":1.1928570865273813E-3},null,{"$f":"IF($B$5=\"\",\"\",EXP($B$5*M16))","v":1.012},null,null,{"$f":"((O16-1)/O16)*D16","v":769.66007905138406},null,null,"Stieb et al., 2020","Incidentie (40+): 64.908","Hartstichting 2020, data 2019"]
[]
[null,null,"Populatie at risk",null,"Percentage afname FEV1",null,null,null,"Daling in FEV1 voor PM2,5 (per 10 µg/m³)",null,null,null,null,null,null,null,null,null,null,null,"idem","idem","idem"]
["FEV1 daling kinderen (0-18 jaar) in procenten","PM2.5",{"$f":"($B$2/'Leeftijdsopbouw NL 2019'!I4)*SUM('Leeftijdsopbouw NL 2019'!$I$5:$I$25)","v":3997789},null,{"$f":"IF($B$4=\"\",\"\",(I19/10)*$B$4)","v":8.0000000000000002E-3},null,null,null,1.6E-2,null,null,null,null,null,null,null,null,null,null,null,"Gehring, 2021","1,6% daling per 10 µg/m³ PM2,5","nvt"]
["FEV1 daling kinderen (0-18 jaar) in procenten","NO2",{"$f":"($B$2/'Leeftijdsopbouw NL 2019'!I4)*SUM('Leeftijdsopbouw NL 2019'!$I$5:$I$25)","v":3997789},null,{"$f":"IF($B$4=\"\",\"\",(J20/10)*$B$5)","v":7.0000000000000001E-3},null,null,null,null,7.0000000000000001E-3,null,null,null,null,null,null,null,null,null,null,"Gehring, 2021","0,7% daling per 10 µg/m³ NO2","nvt"]
["Vroegtijdig overlijden",null,"Populatie at risk",null,"Vroegtijdig overlijden",null,null,"Aantal dagen vroegtijdig overlijden (per 10µg/m³)"]
["Vroegtijdig overlijden two pollutant model:"]
["Totale sterfte (afname in levensverwachting) >30 jaar in dagen door PM10","PM10",{"$f":"($B$2/'Leeftijdsopbouw NL 2019'!I4)*SUM('Leeftijdsopbouw NL 2019'!$I$35:$I$104)","v":11398778},null,{"$f":"(H23/10)*$B$3","v":201},null,null,134,null,null,null,null,null,null,null,null,null,null,null,null,"Fischer 2015","Bevolking 30 jaar en ouder"]
["Totale sterfte (afname in levensverwachting) >30 jaar in dagen door NO2","NO2",{"$f":"($B$2/'Leeftijdsopbouw NL 2019'!I4)*SUM('Leeftijdsopbouw NL 2019'!$I$35:$I$104)","v":11398778},null,{"$f":"IF($B$5=\"\",\"\",(H24/10)*$B$5)","v":60},null,null,60,null,null,null,null,null,null,null,null,null,null,null,null,"Fischer 2015","Bevolking 30 jaar en ouder"]
["Totale sterfte (afname in levensverwachting) >30 jaar in dagen door PM10 en NO2 (two-pollutant model)","PM10 en NO2",{"$f":"($B$2/'Leeftijdsopbouw NL 2019'!I4)*SUM('Leeftijdsopbouw NL 2019'!$I$35:$I$104)","v":11398778},null,{"$f":"E23+E24","v":261},null,null,{"$f":"H23+H24","v":194},null,null,null,null,null,null,null,null,null,null,null,null,"Fischer 2015","Bevolking 30 jaar en ouder"]
[]
["Vroegtijdig overlijden one pollutant model (als je geen PM10/2,5 én NO2 concentraties hebt):"]
["Totale sterfte (afname in levensverwachting) >30 jaar in dagen door PM10 (one pollutant model)","PM10",{"$f":"($B$2/'Leeftijdsopbouw NL 2019'!I4)*SUM('Leeftijdsopbouw NL 2019'!$I$35:$I$104)","v":11398778},null,{"$f":"(B3/10)*H28","v":189},null,null,126,null,null,null,null,null,null,null,null,null,null,null,null,"Cheng & Hoek, 2020","Bevolking 30 jaar en ouder"]
["Totale sterfte (afname in levensverwachting) >30 jaar in dagen door PM2,5 (one pollutant model)","PM2,5",{"$f":"($B$2/'Leeftijdsopbouw NL 2019'!I4)*SUM('Leeftijdsopbouw NL 2019'!$I$35:$I$104)","v":11398778},null,{"$f":"(B4/10)*H29","v":124.5},null,null,249,null,null,null,null,null,null,null,null,null,null,null,null,"Cheng & Hoek, 2020","Bevolking 30 jaar en ouder"]
["Totale sterfte (afname in levensverwachting) >30 jaar in dagen door NO2 (one pollutant model)","NO2",{"$f":"($B$2/'Leeftijdsopbouw NL 2019'!I4)*SUM('Leeftijdsopbouw NL 2019'!$I$35:$I$104)","v":11398778},null,{"$f":"(B5/10)*H30","v":63},null,null,63,null,null,null,null,null,null,null,null,null,null,null,null,"Huangfu & Atkinson, 2020","Bevolking 30 jaar en ouder"]

{"sheet":"Leeftijdsopbouw NL 2019","index":4,"n_rows":104,"n_cols":9,"rows_kept":104,"cut":false,"hidden":true,"merged":[[3,0,103,0],[3,3,103,3],[1,6,1,7],[3,9,3,14]]}
["Bevolking; geslacht en leeftijd op 1 januari 2020"]
["Statline",null,null,null,null,null,"NL populatie 2019 M+V",null,17407585]
["2020-01-01"]
["Mannen","Totaal mannen",8648031,"Vrouwen","Totaal vrouwen",8759554,"Totaal","Totaal M+V",17407585]
[null,"0 jaar",86780,null,"0 jaar",82717,null,"0 jaar",169497]
[null,"1 jaar",86936,null,"1 jaar",82982,null,"1 jaar",169918]
[null,"2 jaar",88224,null,"2 jaar",83727,null,"2 jaar",171951]
[null,"3 jaar",89877,null,"3 jaar",85442,null,"3 jaar",175319]
[null,"4 jaar",89678,null,"4 jaar",85109,null,"4 jaar",174787]
[null,"5 jaar",91715,null,"5 jaar",87866,null,"5 jaar",179581]
[null,"6 jaar",90538,null,"6 jaar",85677,null,"6 jaar",176215]
[null,"7 jaar",92757,null,"7 jaar",88212,null,"7 jaar",180969]
[null,"8 jaar",94859,null,"8 jaar",89928,null,"8 jaar",184787]
[null,"9 jaar",97000,null,"9 jaar",92871,null,"9 jaar",189871]
[null,"10 jaar",97716,null,"10 jaar",92865,null,"10 jaar",190581]
[null,"11 jaar",98121,null,"11 jaar",93080,null,"11 jaar",191201]
[null,"12 jaar",95795,null,"12 jaar",91838,null,"12 jaar",187633]
[null,"13 jaar",97984,null,"13 jaar",92965,null,"13 jaar",190949]
[null,"14 jaar",98734,null,"14 jaar",94106,null,"14 jaar",192840]
[null,"15 jaar",101456,null,"15 jaar",97121,null,"15 jaar",198577]
[null,"16 jaar",105340,null,"16 jaar",100080,null,"16 jaar",205420]
[null,"17 jaar",106095,null,"17 jaar",101054,null,"17 jaar",207149]
[null,"18 jaar",109193,null,"18 jaar",104330,null,"18 jaar",213523]
[null,"19 jaar",114144,null,"19 jaar",110345,null,"19 jaar",224489]
[null,"20 jaar",113176,null,"20 jaar",109356,null,"20 jaar",222532]
[null,"21 jaar",112662,null,"21 jaar",108989,null,"21 jaar",221651]
[null,"22 jaar",109312,null,"22 jaar",106985,null,"22 jaar",216297]
[null,"23 jaar",110236,null,"23 jaar",106212,null,"23 jaar",216448]
[null,"24 jaar",110279,null,"24 jaar",107378,null,"24 jaar",217657]
[null,"25 jaar",114006,null,"25 jaar",110507,null,"25 jaar",224513]
[null,"26 jaar",114184,null,"26 jaar",110803,null,"26 jaar",224987]
[null,"27 jaar",115804,null,"27 jaar",111847,null,"27 jaar",227651]
[null,"28 jaar",116870,null,"28 jaar",113466,null,"28 jaar",230336]
[null,"29 jaar",117735,null,"29 jaar",113743,null,"29 jaar",231478]
[null,"30 jaar",113052,null,"30 jaar",111015,null,"30 jaar",224067]
[null,"31 jaar",112150,null,"31 jaar",109417,null,"31 jaar",221567]
[null,"32 jaar",112141,null,"32 jaar",108871,null,"32 jaar",221012]
[null,"33 jaar",110858,null,"33 jaar",109414,null,"33 jaar",220272]
[null,"34 jaar",108465,null,"34 jaar",106720,null,"34 jaar",215185]
[null,"35 jaar",106816,null,"35 jaar",104792,null,"35 jaar",211608]
[null,"36 jaar",103411,null,"36 jaar",102283,null,"36 jaar",205694]
[null,"37 jaar",103678,null,"37 jaar",102457,null,"37 jaar",206135]
[null,"38 jaar",104855,null,"38 jaar",104932,null,"38 jaar",209787]
[null,"39 jaar",106437,null,"39 jaar",106167,null,"39 jaar",212604]
[null,"40 jaar",102613,null,"40 jaar",102787,null,"40 jaar",205400]
[null,"41 jaar",102353,null,"41 jaar",102998,null,"41 jaar",205351]
[null,"42 jaar",100590,null,"42 jaar",101643,null,"42 jaar",202233]
[null,"43 jaar",101906,null,"43 jaar",101926,null,"43 jaar",203832]
[null,"44 jaar",101960,null,"44 jaar",103232,null,"44 jaar",205192]
[null,"45 jaar",106340,null,"45 jaar",107835,null,"45 jaar",214175]
[null,"46 jaar",109926,null,"46 jaar",111471,null,"46 jaar",221397]
[null,"47 jaar",118629,null,"47 jaar",120512,null,"47 jaar",239141]
[null,"48 jaar",125116,null,"48 jaar",125298,null,"48 jaar",250414]
[null,"49 jaar",130430,null,"49 jaar",130511,null,"49 jaar",260941]
[null,"50 jaar",133557,null,"50 jaar",132630,null,"50 jaar",266187]
[null,"51 jaar",127742,null,"51 jaar",127180,null,"51 jaar",254922]
[null,"52 jaar",126700,null,"52 jaar",125234,null,"52 jaar",251934]
[null,"53 jaar",127005,null,"53 jaar",125793,null,"53 jaar",252798]
[null,"54 jaar",129050,null,"54 jaar",126935,null,"54 jaar",255985]
[null,"55 jaar",130710,null,"55 jaar",129248,null,"55 jaar",259958]
[null,"56 jaar",128205,null,"56 jaar",126880,null,"56 jaar",255085]
[null,"57 jaar",124920,null,"57 jaar",124789,null,"57 jaar",249709]
[null,"58 jaar",123328,null,"58 jaar",123348,null,"58 jaar",246676]
[null,"59 jaar",119520,null,"59 jaar",119644,null,"59 jaar",239164]
[null,"60 jaar",117917,null,"60 jaar",118246,null,"60 jaar",236163]
[null,"61 jaar",114274,null,"61 jaar",114647,null,"61 jaar",228921]
[null,"62 jaar",110971,null,"62 jaar",112104,null,"62 jaar",223075]
[null,"63 jaar",108696,null,"63 jaar",109425,null,"63 jaar",218121]
[null,"64 jaar",104550,null,"64 jaar",106968,null,"64 jaar",211518]
[null,"65 jaar",102944,null,"65 jaar",104287,null,"65 jaar",207231]
[null,"66 jaar",100458,null,"66 jaar",102165,null,"66 jaar",202623]
[null,"67 jaar",99719,null,"67 jaar",101779,null,"67 jaar",201498]
[null,"68 jaar",95529,null,"68 jaar",97168,null,"68 jaar",192697]
[null,"69 jaar",94604,null,"69 jaar",97395,null,"69 jaar",191999]
[null,"70 jaar",94637,null,"70 jaar",97695,null,"70 jaar",192332]
[null,"71 jaar",96267,null,"71 jaar",99419,null,"71 jaar",195686]
[null,"72 jaar",98898,null,"72 jaar",104012,null,"72 jaar",202910]
[null,"73 jaar",100306,null,"73 jaar",105706,null,"73 jaar",206012]
[null,"74 jaar",69437,null,"74 jaar",74842,null,"74 jaar",144279]
[null,"75 jaar",70595,null,"75 jaar",77014,null,"75 jaar",147609]
[null,"76 jaar",65129,null,"76 jaar",71692,null,"76 jaar",136821]
[null,"77 jaar",57948,null,"77 jaar",65098,null,"77 jaar",123046]
[null,"78 jaar",52936,null,"78 jaar",60684,null,"78 jaar",113620]
[null,"79 jaar",51437,null,"79 jaar",60667,null,"79 jaar",112104]
[null,"80 jaar",46393,null,"80 jaar",57163,null,"80 jaar",103556]
[null,"81 jaar",42774,null,"81 jaar",53698,null,"81 jaar",96472]
[null,"82 jaar",36940,null,"82 jaar",48359,null,"82 jaar",85299]
[null,"83 jaar",33443,null,"83 jaar",45766,null,"83 jaar",79209]
[null,"84 jaar",29458,null,"84 jaar",42062,null,"84 jaar",71520]
[null,"85 jaar",25719,null,"85 jaar",38993,null,"85 jaar",64712]
[null,"86 jaar",21808,null,"86 jaar",35196,null,"86 jaar",57004]
[null,"87 jaar",19057,null,"87 jaar",32630,null,"87 jaar",51687]
[null,"88 jaar",15723,null,"88 jaar",28597,null,"88 jaar",44320]
[null,"89 jaar",12984,null,"89 jaar",25494,null,"89 jaar",38478]
[null,"90 jaar",9910,null,"90 jaar",20728,null,"90 jaar",30638]
[null,"91 jaar",7716,null,"91 jaar",17622,null,"91 jaar",25338]
[null,"92 jaar",5847,null,"92 jaar",13884,null,"92 jaar",19731]
[null,"93 jaar",4377,null,"93 jaar",11276,null,"93 jaar",15653]
[null,"94 jaar",3134,null,"94 jaar",8624,null,"94 jaar",11758]
[null,"95 jaar",2099,null,"95 jaar",6756,null,"95 jaar",8855]
[null,"96 jaar",1514,null,"96 jaar",4848,null,"96 jaar",6362]
[null,"97 jaar",926,null,"97 jaar",3448,null,"97 jaar",4374]
[null,"98 jaar",554,null,"98 jaar",2279,null,"98 jaar",2833]
[null,"99 jaar of ouder",734,null,"99 jaar of ouder",3555,null,"99 jaar of ouder",4289]

{"sheet":"Meerookmethode","index":5,"n_rows":45,"n_cols":23,"rows_kept":45,"cut":false,"hidden":true,"merged":[]}
[null,null,null,null,null,"component","schatting aantal meegerookte sigaretten","standaard error van schatting aantal meegerookte sigaretten",null,null,null,"number of pollutants available for comparison","se to usein calculation combined se"]
[null,"VUL DE CONCENTRATIEVERSCHILLEN IN IN DE CELLEN D5, D6. D7 ",null,null,null,"NO2",{"$f":"IF($D$5=\"\",\"\",AVERAGE(S11:S20))","v":2.1955570263259396},{"$f":"IF($D$5=\"\",\"\",SQRT(1/16*($T$11^2+$T$14^2+$T$17^2+$T$20^2)))","v":0.39273924089069884},null,null,null,{"$f":"COUNT(G2:G6)","v":2},{"$f":"IF(H2=\"\", \"0\",H2)","v":0.39273924089069884}]
[null,"(LAAT LEEG ALS JE GEEN GEGEVENS HEBT)"]
[null,null,null,null,null,"EC",{"$f":"IF($D$6=\"\",\"\",AVERAGE(S23:S32))","v":""},{"$f":"IF($D$6=\"\",\"\",SQRT(1/16*($T$23^2+$T$26^2+$T$29^2+$T$32^2)))","v":""},null,null,null,null,{"$f":"IF(H4=\"\", \"0\",H4)","v":"0"}]
[null,"verschil in concentratie (µg/m3)","NO2",{"$f":"Rekenblad!B8","v":10}]
[null,null,null,null,null,"PM2.5",{"$f":"IF($D$7=\"\",\"\",AVERAGE(S35:S44))","v":2.560640528930425},{"$f":"IF($D$7=\"\",\"\",SQRT(1/16*($T$35^2+$T$38^2+$T$41^2+$T$44^2)))","v":0.43106927327420774},null,null,null,null,{"$f":"IF(H6=\"\", \"0\",H6)","v":0.43106927327420774}]
[null,null,"PM2.5",{"$f":"Rekenblad!B7","v":5}]
[null,null,null,null,null,"overall",{"$f":"AVERAGE($G$2:$G$6)","v":2.3780987776281823},{"$f":"SQRT(1/($L2^2)*($M$2^2+$M$4^2+$M$6^2))","v":0.29157538892049684}]
[null,null,null,null,null,"NO2 en PM2.5",{"$f":"AVERAGE(G2,G6)","v":2.3780987776281823}]
[null,"Blootstelling","Relatief Risico / regressiecoefficient","ondergrens 95% btbhti","bovengrens 95% btbhi","Toename in concentratie (ug/m3) waarop RR / regressiecoefficient voor luvo gebaseerd is:","Aantal meegerookte sigaretten waarop de risicoschatting gebaseerd is:","regressiecoefficient per 1 ug/m3 toename in concentratie","ondergrens 95% btbhi van regressiecoefficient per 1 ug/m3 toename in concentratie","bovengrens 95% btbhi van regressiecoefficient per 1 ug/m3 toename in concentratie","standaard error van regressiecoefficient per 1 ug/m3","regressiecoefficient per meegerookte sigaret","ondergrens 95% btbhi van regressiecoefficient per meegerookte sigaret","bovengrens 95% btbhi van regressiecoefficient per meegerookte sigaret","standaarderror van de regressiecoefficient per meegerookte sigaret","Ratio X/Y (regressie coeff per 1 ug/m3 luvo/regressie coeff per sig)","Gecombineerde standaard error van de Ratio R","veandering in concentratie (µg/m3) (WORDT STANDAARD OVERGENOMEN UIT CEL D5)","Equivalent aantal meegerookte sigaretten","standaarderror van equivalent aantal meegerookte sigaretten","2* standard error","ondergrens (95% btbhi) aantal meegerookte sigaretten","bovengrens (95% btbhi) aantal meegerookte sigaretten"]
["Laag geboortegewicht","NO2",1.016,1,1.03,10,null,{"$f":"LN(C11)/F11","v":1.5873349156290163E-3},{"$f":"LN(D11)/F11","v":0},{"$f":"LN(E11)/F11","v":2.955880224154443E-3},{"$f":"($J11-$H11)/1.96","v":6.9823740230889116E-4},null,null,null,null,{"$f":"H11/L12","v":3.449833486678866E-2},{"$f":"P11*SQRT((K11/H11)^2+(O12/L12)^2)","v":1.878619577424339E-2},{"$f":"IF($D$5=\"\",\"\",$D$5)","v":10},{"$f":"IF(R11=\"\",\"\",R11*P11)","v":0.3449833486678866},{"$f":"IF(R11=\"\",\"\",R11*Q11)","v":0.18786195774243392},{"$f":"IF(R11=\"\",\"\",R11*1.96*Q11)","v":0.36820943717517046},{"$f":"IF(R11=\"\",\"\",S11-U11)","v":-2.322608850728386E-2},{"$f":"IF(R11=\"\",\"\",S11+U11)","v":0.71319278584305712}]
["Laag geboortegewicht","ETS blootstelling ('meeroken') ",1.38,1.1299999999999999,1.69,null,7,null,null,null,null,{"$f":"LN(C12)/G12","v":4.6011928452730458E-2},{"$f":"LN(D12)/G12","v":1.7459661817749873E-2},{"$f":"LN(E12)/G12","v":7.496121841928316E-2},{"$f":"(N12-L12)/1.96","v":1.47700459013024E-2}]
[]
["Afname in longfunctie  (FEV1) bij kinderen (%)","NO2",0.7,0.4,1,10,null,{"$f":"C14/F14","v":6.9999999999999993E-2},{"$f":"$D14/$F14","v":0.04},{"$f":"$E14/$F14","v":0.1},{"$f":"($J14-$H14)/1.96","v":1.5306122448979598E-2},null,null,null,null,{"$f":"H14/L15","v":0.44999999999999996},{"$f":"P14*SQRT((K14/H14)^2+(O15/L15)^2)","v":0.12808354060342544},{"$f":"IF($D$5=\"\",\"\",$D$5)","v":10},{"$f":"IF(R14=\"\",\"\",R14*P14)","v":4.5},{"$f":"IF(R14=\"\",\"\",R14*Q14)","v":1.2808354060342544},{"$f":"IF(R14=\"\",\"\",R14*1.96*Q14)","v":2.5104373958271391},{"$f":"IF(R14=\"\",\"\",S14-U14)","v":1.9895626041728609},{"$f":"IF(R14=\"\",\"\",S14+U14)","v":7.0104373958271395}]
["Afname in longfunctie  (FEV1) bij kinderen (%)","ETS blootstelling ('meeroken') ",1.4,1,1.9,null,9,null,null,null,null,{"$f":"C15/G15","v":0.15555555555555556},{"$f":"D15/G15","v":0.1111111111111111},{"$f":"E15/G15","v":0.21111111111111111},{"$f":"(N15-L15)/1.96","v":2.8344671201814057E-2}]
[]
["Sterfte aan hart-en vaatziekten","NO2",1.089,1.06,1.1200000000000001,10,null,{"$f":"LN(C17)/F17","v":8.5259843950823387E-3},{"$f":"LN($D17)/$F17","v":5.8268908123975827E-3},{"$f":"LN($E17)/$F17","v":1.1332868530700327E-2},{"$f":"(J17-H17)/1.96","v":1.4320837426622388E-3},null,null,null,null,{"$f":"H17/L18","v":0.24969736720748106},{"$f":"P17*SQRT((K17/H17)^2+(O18/L18)^2)","v":5.559510994509325E-2},{"$f":"IF($D$5=\"\",\"\",$D$5)","v":10},{"$f":"IF(R17=\"\",\"\",R17*P17)","v":2.4969736720748106},{"$f":"IF(R17=\"\",\"\",R17*Q17)","v":0.55595109945093246},{"$f":"IF(R17=\"\",\"\",R17*1.96*Q17)","v":1.0896641549238277},{"$f":"IF(R17=\"\",\"\",S17-U17)","v":1.4073095171509828},{"$f":"IF(R17=\"\",\"\",S17+U17)","v":3.5866378269986381}]
["Sterfte aan hart-en vaatziekten","ETS blootstelling ('meeroken') ",1.27,1.19,1.36,null,7,null,null,null,null,{"$f":"LN(C18)/G18","v":3.4145271495785702E-2},{"$f":"LN(D18)/G18","v":2.4850472446205425E-2},{"$f":"LN(E18)/G18","v":4.3926385678280104E-2},{"$f":"(N18-L18)/1.96","v":4.9903643788236744E-3}]
[]
["Longkanker","NO2",1.04,1.01,1.0760000000000001,10,null,{"$f":"LN(C20)/F20","v":3.9220713153281326E-3},{"$f":"LN($D20)/$F20","v":9.9503308531680916E-4},{"$f":"LN($E20)/$F20","v":7.3250461739592741E-3},{"$f":"(J20-H20)/1.96","v":1.736211662566909E-3},null,null,null,null,{"$f":"H20/L21","v":0.14402710845610606},{"$f":"P20*SQRT((K20/H20)^2+(O21/L21)^2)","v":6.9497676498425726E-2},{"$f":"IF($D$5=\"\",\"\",$D$5)","v":10},{"$f":"IF(R20=\"\",\"\",R20*P20)","v":1.4402710845610605},{"$f":"IF(R20=\"\",\"\",R20*Q20)","v":0.69497676498425731},{"$f":"IF(R20=\"\",\"\",R20*1.96*Q20)","v":1.3621544593691444},{"$f":"IF(R20=\"\",\"\",S20-U20)","v":7.8116625191916089E-2},{"$f":"IF(R20=\"\",\"\",S20+U20)","v":2.8024255439302048}]
["Longkanker","ETS blootstelling ('meeroken') ",1.21,1.1299999999999999,1.3,null,7,null,null,null,null,{"$f":"LN(C21)/G21","v":2.7231479944092814E-2},{"$f":"LN(D21)/G21","v":1.7459661817749873E-2},{"$f":"LN(E21)/G21","v":3.748060920964158E-2},{"$f":"(N21-L21)/1.96","v":5.2291475844636563E-3}]
[]
["Laag geboortegewicht","Roet",1,1,1,1,null,{"$f":"LN(C23)/F23","v":0},{"$f":"LN($D23)/$F23","v":0},{"$f":"LN($E23)/$F23","v":0},{"$f":"($J23-$H23)/1.96","v":0},null,null,null,null,{"$f":"H23/L24","v":0},{"$f":"P23*SQRT((K23/H23)^2+(O24/L24)^2)","v":{"$error":"#DIV/0!"}},{"$f":"IF($D$6=\"\",\"\",$D$6)","v":""},{"$f":"IF(R23=\"\",\"\",R23*P23)","v":""},{"$f":"IF(R23=\"\",\"\",R23*Q23)","v":""},{"$f":"IF(R23=\"\",\"\",R23*1.96*Q23)","v":""},{"$f":"IF(R23=\"\",\"\",S23-U23)","v":""},{"$f":"IF(R23=\"\",\"\",S23+U23)","v":""}]
["Laag geboortegewicht","ETS blootstelling ('meeroken') ",1.38,1.1299999999999999,1.69,null,7,null,null,null,null,{"$f":"LN(C24)/G24","v":4.6011928452730458E-2},{"$f":"LN(D24)/G24","v":1.7459661817749873E-2},{"$f":"LN(E24)/G24","v":7.496121841928316E-2},{"$f":"(N24-L24)/1.96","v":1.47700459013024E-2}]
[]
["Afname in longfunctie  (FEV1) bij kinderen (%)","Roet",1,1,1,1,null,{"$f":"C26/F26","v":1},{"$f":"$D26/$F26","v":1},{"$f":"$E26/$F26","v":1},{"$f":"($J26-$H26)/1.96","v":0},null,null,null,null,{"$f":"H26/L27","v":6.4285714285714288},{"$f":"P26*SQRT((K26/H26)^2+(O27/L27)^2)","v":1.1713869221157851},{"$f":"IF($D$6=\"\",\"\",$D$6)","v":""},{"$f":"IF(R26=\"\",\"\",R26*P26)","v":""},{"$f":"IF(R26=\"\",\"\",R26*Q26)","v":""},{"$f":"IF(R26=\"\",\"\",R26*1.96*Q26)","v":""},{"$f":"IF(R26=\"\",\"\",S26-U26)","v":""},{"$f":"IF(R26=\"\",\"\",S26+U26)","v":""}]
["Afname in longfunctie  (FEV1) bij kinderen (%)","ETS blootstelling ('meeroken') ",1.4,1,1.9,null,9,null,null,null,null,{"$f":"C27/G27","v":0.15555555555555556},{"$f":"D27/G27","v":0.1111111111111111},{"$f":"E27/G27","v":0.21111111111111111},{"$f":"(N27-L27)/1.96","v":2.8344671201814057E-2}]
[]
["Sterfte aan hart-en vaatziekten","Roet",1,1,1,1,null,{"$f":"LN(C29)/F29","v":0},{"$f":"LN($D29)/$F29","v":0},{"$f":"LN($E29)/$F29","v":0},{"$f":"($J29-$H29)/1.96","v":0},null,null,null,null,{"$f":"H29/L30","v":0},{"$f":"P29*SQRT((K29/H29)^2+(O30/L30)^2)","v":{"$error":"#DIV/0!"}},{"$f":"IF($D$6=\"\",\"\",$D$6)","v":""},{"$f":"IF(R29=\"\",\"\",R29*P29)","v":""},{"$f":"IF(R29=\"\",\"\",R29*Q29)","v":""},{"$f":"IF(R29=\"\",\"\",R29*1.96*Q29)","v":""},{"$f":"IF(R29=\"\",\"\",S29-U29)","v":""},{"$f":"IF(R29=\"\",\"\",S29+U29)","v":""}]
["Sterfte aan hart-en vaatziekten","ETS blootstelling ('meeroken') ",1.27,1.19,1.36,null,7,null,null,null,null,{"$f":"LN(C30)/G30","v":3.4145271495785702E-2},{"$f":"LN(D30)/G30","v":2.4850472446205425E-2},{"$f":"LN(E30)/G30","v":4.3926385678280104E-2},{"$f":"(N30-L30)/1.96","v":4.9903643788236744E-3}]
[]
["Longkanker","Roet",1,1,1,1,null,{"$f":"LN(C32)/F32","v":0},{"$f":"LN($D32)/$F32","v":0},{"$f":"LN($E32)/$F32","v":0},{"$f":"($J32-$H32)/1.96","v":0},null,null,null,null,{"$f":"H32/L33","v":0},{"$f":"P32*SQRT((K32/H32)^2+(O33/L33)^2)","v":{"$error":"#DIV/0!"}},{"$f":"IF($D$6=\"\",\"\",$D$6)","v":""},{"$f":"IF(R32=\"\",\"\",R32*P32)","v":""},{"$f":"IF(R32=\"\",\"\",R32*Q32)","v":""},{"$f":"IF(R32=\"\",\"\",R32*1.96*Q32)","v":""},{"$f":"IF(R32=\"\",\"\",S32-U32)","v":""},{"$f":"IF(R32=\"\",\"\",S32+U32)","v":""}]
["Longkanker","ETS blootstelling ('meeroken') ",1.21,1.1299999999999999,1.3,null,7,null,null,null,null,{"$f":"LN(C33)/G33","v":2.7231479944092814E-2},{"$f":"LN(D33)/G33","v":1.7459661817749873E-2},{"$f":"LN(E33)/G33","v":3.748060920964158E-2},{"$f":"(N33-L33)/1.96","v":5.2291475844636563E-3}]
[]
["Laag geboortegewicht","PM2.5",1.081,1.04,1.1200000000000001,10,null,{"$f":"LN(C35)/F35","v":7.7886538657071193E-3},{"$f":"LN($D35)/$F35","v":3.9220713153281326E-3},{"$f":"LN($E35)/$F35","v":1.1332868530700327E-2},{"$f":"($J35-$H35)/1.96","v":1.8082727882618407E-3},null,null,null,null,{"$f":"H35/L36","v":0.16927466697486185},{"$f":"P35*SQRT((K35/H35)^2+(O36/L36)^2)","v":6.7060505334716206E-2},{"$f":"IF($D$7=\"\",\"\",$D$7)","v":5},{"$f":"IF(R35=\"\",\"\",R35*P35)","v":0.84637333487430921},{"$f":"IF(R35=\"\",\"\",R35*Q35)","v":0.33530252667358101},{"$f":"IF(R35=\"\",\"\",R35*1.96*Q35)","v":0.6571929522802189},{"$f":"IF(R35=\"\",\"\",S35-U35)","v":0.18918038259409031},{"$f":"IF(R35=\"\",\"\",S35+U35)","v":1.5035662871545281}]
["Laag geboortegewicht","ETS blootstelling ('meeroken') ",1.38,1.1299999999999999,1.69,null,7,null,null,null,null,{"$f":"LN(C36)/G36","v":4.6011928452730458E-2},{"$f":"LN(D36)/G36","v":1.7459661817749873E-2},{"$f":"LN(E36)/G36","v":7.496121841928316E-2},{"$f":"(N36-L36)/1.96","v":1.47700459013024E-2}]
[]
["Afname in longfunctie  (FEV1) bij kinderen (%)","PM2.5",1.6,1,2.2999999999999998,10,null,{"$f":"C38/F38","v":0.16},{"$f":"$D38/$F38","v":0.1},{"$f":"$E38/$F38","v":0.22999999999999998},{"$f":"($J38-$H38)/1.96","v":3.5714285714285705E-2},null,null,null,null,{"$f":"H38/L39","v":1.0285714285714285},{"$f":"P38*SQRT((K38/H38)^2+(O39/L39)^2)","v":0.29637709580969634},{"$f":"IF($D$7=\"\",\"\",$D$7)","v":5},{"$f":"IF(R38=\"\",\"\",R38*P38)","v":5.1428571428571423},{"$f":"IF(R38=\"\",\"\",R38*Q38)","v":1.4818854790484817},{"$f":"IF(R38=\"\",\"\",R38*1.96*Q38)","v":2.9044955389350244},{"$f":"IF(R38=\"\",\"\",S38-U38)","v":2.2383616039221179},{"$f":"IF(R38=\"\",\"\",S38+U38)","v":8.0473526817921659}]
["Afname in longfunctie  (FEV1) bij kinderen (%)","ETS blootstelling ('meeroken') ",1.4,1,1.9,null,9,null,null,null,null,{"$f":"C39/G39","v":0.15555555555555556},{"$f":"D39/G39","v":0.1111111111111111},{"$f":"E39/G39","v":0.21111111111111111},{"$f":"(N39-L39)/1.96","v":2.8344671201814057E-2}]
[]
["Sterfte aan hart-en vaatziekten","PM2.5",1.1100000000000001,1.0900000000000001,1.1399999999999999,10,null,{"$f":"LN(C41)/F41","v":1.0436001532424286E-2},{"$f":"LN($D41)/$F41","v":8.6177696241052405E-3},{"$f":"LN($E41)/$F41","v":1.31028262406404E-2},{"$f":"($J41-$H41)/1.96","v":1.3606248511306704E-3},null,null,null,null,{"$f":"H41/L42","v":0.30563533617567878},{"$f":"P41*SQRT((K41/H41)^2+(O42/L42)^2)","v":5.98596957526056E-2},{"$f":"IF($D$7=\"\",\"\",$D$7)","v":5},{"$f":"IF(R41=\"\",\"\",R41*P41)","v":1.5281766808783939},{"$f":"IF(R41=\"\",\"\",R41*Q41)","v":0.29929847876302801},{"$f":"IF(R41=\"\",\"\",R41*1.96*Q41)","v":0.58662501837553493},{"$f":"IF(R41=\"\",\"\",S41-U41)","v":0.94155166250285893},{"$f":"IF(R41=\"\",\"\",S41+U41)","v":2.1148016992539289}]
["Sterfte aan hart-en vaatziekten","ETS blootstelling ('meeroken') ",1.27,1.19,1.36,null,7,null,null,null,null,{"$f":"LN(C42)/G42","v":3.4145271495785702E-2},{"$f":"LN(D42)/G42","v":2.4850472446205425E-2},{"$f":"LN(E42)/G42","v":4.3926385678280104E-2},{"$f":"(N42-L42)/1.96","v":4.9903643788236744E-3}]
[]
["Longkanker","PM2.5",1.1599999999999999,1.0900000000000001,1.23,10,null,{"$f":"LN(C44)/F44","v":1.4842000511827321E-2},{"$f":"LN($D44)/$F44","v":8.6177696241052405E-3},{"$f":"LN($E44)/$F44","v":2.0701416938432613E-2},{"$f":"($J44-$H44)/1.96","v":2.9894981768394347E-3},null,null,null,null,{"$f":"H44/L45","v":0.5450309914223711},{"$f":"P44*SQRT((K44/H44)^2+(O45/L45)^2)","v":0.15167591199398262},{"$f":"IF($D$7=\"\",\"\",$D$7)","v":5},{"$f":"IF(R44=\"\",\"\",R44*P44)","v":2.7251549571118554},{"$f":"IF(R44=\"\",\"\",R44*Q44)","v":0.75837955996991302},{"$f":"IF(R44=\"\",\"\",R44*1.96*Q44)","v":1.4864239375410297},{"$f":"IF(R44=\"\",\"\",S44-U44)","v":1.2387310195708257},{"$f":"IF(R44=\"\",\"\",S44+U44)","v":4.2115788946528854}]
["Longkanker","ETS blootstelling ('meeroken') ",1.21,1.1299999999999999,1.3,null,7,null,null,null,null,{"$f":"LN(C45)/G45","v":2.7231479944092814E-2},{"$f":"LN(D45)/G45","v":1.7459661817749873E-2},{"$f":"LN(E45)/G45","v":3.748060920964158E-2},{"$f":"(N45-L45)/1.96","v":5.2291475844636563E-3}]